BEGIN:VCALENDAR
VERSION:2.0
METHOD:PUBLISH
PRODID:-//Accessible Web Design//My Calendar//http://www.joedolson.com//v3.2.10//EN';
BEGIN:VEVENT
UID:1184-530
LOCATION:
SUMMARY:Oecumenische viering .
DTSTAMP:20251214T100000
ORGANIZER;CN=Piet:MAILTO:van_heijningen@yahoo.com
DTSTART:20251214T100000
DTEND:20251214T110000
CATEGORIES:Oecemenisch
URL;VALUE=URI:
DESCRIPTION;ENCODING=QUOTED-PRINTABLE:Viering met Kerstoratorium ‘Als appelbloesem in de winter’ projectkoor olv Rita Kremers 
END:VEVENT
END:VCALENDAR